BEGIN:VCALENDAR
VERSION:2.0
PRODID:-//Down Under Radio - ECPv6.6.1//NONSGML v1.0//EN
CALSCALE:GREGORIAN
METHOD:PUBLISH
X-WR-CALNAME:Down Under Radio
X-ORIGINAL-URL:https://radiodownunder.com.au
X-WR-CALDESC:Events for Down Under Radio
REFRESH-INTERVAL;VALUE=DURATION:PT1H
X-Robots-Tag:noindex
X-PUBLISHED-TTL:PT1H
BEGIN:VTIMEZONE
TZID:UTC
BEGIN:STANDARD
TZOFFSETFROM:+0000
TZOFFSETTO:+0000
TZNAME:UTC
DTSTART:20250101T000000
END:STANDARD
END:VTIMEZONE
BEGIN:VEVENT
DTSTART;TZID=UTC:20250704T080000
DTEND;TZID=UTC:20250722T170000
DTSTAMP:20260424T132503
CREATED:20190531T121653Z
LAST-MODIFIED:20240924T042844Z
UID:3430-1751616000-1753203600@radiodownunder.com.au
SUMMARY:Destiny Hour
DESCRIPTION:Coming Soon…
URL:https://radiodownunder.com.au/event/destiny-hour/
ATTACH;FMTTYPE=image/jpeg:https://radiodownunder.com.au/wp-content/uploads/2019/05/WhatsApp-Image-2024-09-24-at-13.51.24-2.jpeg
END:VEVENT
END:VCALENDAR