BEGIN:VCALENDAR
VERSION:2.0
PRODID:-//Down Under Radio - ECPv6.6.1//NONSGML v1.0//EN
CALSCALE:GREGORIAN
METHOD:PUBLISH
X-ORIGINAL-URL:https://radiodownunder.com.au
X-WR-CALDESC:Events for Down Under Radio
REFRESH-INTERVAL;VALUE=DURATION:PT1H
X-Robots-Tag:noindex
X-PUBLISHED-TTL:PT1H
BEGIN:VTIMEZONE
TZID:UTC
BEGIN:STANDARD
TZOFFSETFROM:+0000
TZOFFSETTO:+0000
TZNAME:UTC
DTSTART:20250101T000000
END:STANDARD
END:VTIMEZONE
BEGIN:VEVENT
DTSTART;TZID=UTC:20250602T083000
DTEND;TZID=UTC:20250617T100000
DTSTAMP:20260424T151105
CREATED:20190531T121831Z
LAST-MODIFIED:20240924T035735Z
UID:3436-1748853000-1750154400@radiodownunder.com.au
SUMMARY:Empowered for Transformation
DESCRIPTION:Coming soon…
URL:https://radiodownunder.com.au/event/empowered-for-transformation/
ATTACH;FMTTYPE=image/jpeg:https://radiodownunder.com.au/wp-content/uploads/2019/05/WhatsApp-Image-2024-09-24-at-13.51.24.jpeg
END:VEVENT
END:VCALENDAR